BEGIN:VCALENDAR
VERSION:2.0
PRODID:-//ChamberMaster//Event Calendar 2.0//EN
METHOD:PUBLISH
X-PUBLISHED-TTL:P3D
REFRESH-INTERVAL:P3D
CALSCALE:GREGORIAN
BEGIN:VEVENT
DTSTART:20200619T000000Z
DTEND:20200619T020000Z
X-MICROSOFT-CDO-ALLDAYEVENT:FALSE
SUMMARY:Board of Directors Meeting
DESCRIPTION:The Poway Chamber Board of Directors meets monthly on the third Thursday of the month. They discuss new members\, events and items that impact the Chamber.\n\n\n\nZoom link for those who prefer to attend virtually: https://us02web.zoom.us/j/3582077332?pwd=OHhKd1FzWmxDZ2hJSXlDNEhDMG5NZz09
X-ALT-DESC;FMTTYPE=text/html:The Poway Chamber Board of Directors meets monthly on the third Thursday of the month. They discuss new members\, events and items that impact the Chamber.<br />\n<br />\nZoom link for those who prefer to attend virtually:&nbsp\;<b style="color: rgb(116\, 116\, 135)\; font-family: &quot\;Helvetica Neue&quot\;\;"><a data-saferedirecturl="https://www.google.com/url?q=https://us02web.zoom.us/j/3582077332?pwd%3DOHhKd1FzWmxDZ2hJSXlDNEhDMG5NZz09&amp\;source=gmail&amp\;ust=1592498030458000&amp\;usg=AFQjCNF6CWnpgeOCFACSPx7UYZ0Ro_QO6A" href="https://us02web.zoom.us/j/3582077332?pwd=OHhKd1FzWmxDZ2hJSXlDNEhDMG5NZz09" style="color: rgb(17\, 85\, 204)\;" target="_blank">https://us02web.zoom.us/j/<wbr />3582077332?pwd=<wbr />OHhKd1FzWmxDZ2hJSXlDNEhDMG5NZz<wbr />09</a></b>
LOCATION:Halcyon 14282 Danielson Street
UID:e.530.9967
SEQUENCE:3
DTSTAMP:20260420T200503Z
URL:https://business.poway.com/events/details/board-of-directors-meeting-06-18-2020-9967
END:VEVENT

END:VCALENDAR
