BEGIN:VCALENDAR
VERSION:2.0
PRODID:-//ChamberMaster//Event Calendar 2.0//EN
METHOD:PUBLISH
X-PUBLISHED-TTL:P3D
REFRESH-INTERVAL:P3D
CALSCALE:GREGORIAN
BEGIN:VEVENT
DTSTART:20210621T230000Z
DTEND:20210622T010000Z
X-MICROSOFT-CDO-ALLDAYEVENT:FALSE
SUMMARY:Board of Directors Meeting
DESCRIPTION:The Poway Chamber Board of Directors meets monthly on the third Thursday of the month. They discuss new members\, events and items that impact the Chamber.
X-ALT-DESC;FMTTYPE=text/html:The Poway Chamber Board of Directors meets monthly on the third Thursday of the month. They discuss new members\, events and items that impact the Chamber.
LOCATION:US Bank 13395 Poway Rd Poway\, CA 92064
UID:e.530.9979
SEQUENCE:3
DTSTAMP:20260419T234358Z
URL:https://business.poway.com/events/details/board-of-directors-meeting-06-17-2021-9979
END:VEVENT

END:VCALENDAR
