BEGIN:VCALENDAR
VERSION:2.0
PRODID:-//ChamberMaster//Event Calendar 2.0//EN
METHOD:PUBLISH
X-PUBLISHED-TTL:P3D
REFRESH-INTERVAL:P3D
CALSCALE:GREGORIAN
BEGIN:VEVENT
DTSTART:20220616T223000Z
DTEND:20220617T030000Z
X-MICROSOFT-CDO-ALLDAYEVENT:FALSE
SUMMARY:Board of Directors Meeting
DESCRIPTION:Combined Board Meeting & Annual Board Retreat.\n\n\n\nThe Poway Chamber Board of Directors meets monthly on the third Thursday of the month. They discuss new members\, events and items that impact the Chamber.
X-ALT-DESC;FMTTYPE=text/html:Combined Board Meeting &amp\; Annual Board Retreat.<br />\n<br />\nThe Poway Chamber Board of Directors meets monthly on the third Thursday of the month. They discuss new members\, events and items that impact the Chamber.
LOCATION:US Bank 13395 Poway Rd Poway\, CA 92064
UID:e.530.9991
SEQUENCE:3
DTSTAMP:20260422T130025Z
URL:https://business.poway.com/events/details/board-of-directors-meeting-06-16-2022-9991
END:VEVENT

END:VCALENDAR
