BEGIN:VCALENDAR
VERSION:2.0
PRODID:-//ChamberMaster//Event Calendar 2.0//EN
METHOD:PUBLISH
X-PUBLISHED-TTL:P3D
REFRESH-INTERVAL:P3D
CALSCALE:GREGORIAN
BEGIN:VEVENT
DTSTART:20200522T000000Z
DTEND:20200522T020000Z
X-MICROSOFT-CDO-ALLDAYEVENT:FALSE
SUMMARY:Board of Directors Meeting
DESCRIPTION:The Poway Chamber Board of Directors meets monthly on the third Thursday of the month. They discuss new members\, events and items that impact the Chamber.
X-ALT-DESC;FMTTYPE=text/html:The Poway Chamber Board of Directors meets monthly on the third Thursday of the month. They discuss new members\, events and items that impact the Chamber.
LOCATION:Location TBD
UID:e.530.9966
SEQUENCE:3
DTSTAMP:20260420T200504Z
URL:https://business.poway.com/events/details/board-of-directors-meeting-05-21-2020-9966
END:VEVENT

END:VCALENDAR
