BEGIN:VCALENDAR
VERSION:2.0
PRODID:-//ChamberMaster//Event Calendar 2.0//EN
METHOD:PUBLISH
X-PUBLISHED-TTL:P3D
REFRESH-INTERVAL:P3D
CALSCALE:GREGORIAN
BEGIN:VEVENT
DTSTART:20191221T010000Z
DTEND:20191221T050000Z
X-MICROSOFT-CDO-ALLDAYEVENT:FALSE
SUMMARY:BBQ Night
DESCRIPTION:Smokin J's hauls their smokers and Filhart's Beef to our patio. This will help you make your Friday Night at MCW an epic time!! Join us and enjoy this delicious meal with friends and/or family. Pets are allowed!
X-ALT-DESC;FMTTYPE=text/html:Smokin J&#39\;s hauls their smokers and Filhart&#39\;s Beef to our patio. This will help you make your Friday Night at MCW an epic time!! Join us and enjoy this delicious meal with friends and/or family. Pets are allowed!
LOCATION:Mission Cellars Winery 14053 Midland Rd. Poway\, CA 92064
UID:e.530.16319
SEQUENCE:3
DTSTAMP:20260421T043642Z
URL:https://business.poway.com/events/details/bbq-night-16319
END:VEVENT

END:VCALENDAR
