BEGIN:VCALENDAR
VERSION:2.0
PRODID:-//ChamberMaster//Event Calendar 2.0//EN
METHOD:PUBLISH
X-PUBLISHED-TTL:P3D
REFRESH-INTERVAL:P3D
CALSCALE:GREGORIAN
BEGIN:VEVENT
DTSTART:20220227T040000Z
DTEND:20220227T060000Z
X-MICROSOFT-CDO-ALLDAYEVENT:FALSE
SUMMARY:Back to the Garden in “HELLO GOODBYE: 1969 from Abbey Road to Led Zeppelin”
DESCRIPTION:Poway OnStage favorites\, Back to the Garden (Beatles: Alone/Together\, Sounds of the Laurel Canyon\, Monterey '67 Revisited) enjoy a faithful following because of their authentic renditions of iconic songs and musical periods.  More than a concert\, each production is a carefully crafted celebration\, and Hello Goodbye: 1969 from Abbey Road to Led Zeppelin\, promises no less.\n\nIn 1969 America said hello to amazing debuts from Led Zeppelin\, Santana and Crosby\, Stills & Nash\, and Neil Young released his solo LP. Creedence Clearwater Revival enjoyed three albums in the top 10\, and the Rolling Stones were on a roll.  Mid-August unleashed Woodstock\, which left its indelible mark on American music. Unbeknownst to most\, The Beatles were beginning to "say goodbye\," but that wasn't obvious when they released Abbey Road in September. Rock was still very exciting as the '60s ended\, and this concert celebrates the final year in that legendary musical decade.\n\nThis show made possible by GVCA
X-ALT-DESC;FMTTYPE=text/html:<p>Poway OnStage favorites\,&nbsp\;<strong>Back to the Garden&nbsp\;</strong><em>(Beatles: Alone/Together\, Sounds of the Laurel Canyon\, Monterey &rsquo\;67 Revisited)&nbsp\;</em>enjoy a faithful following because of their authentic renditions of iconic songs and musical periods.&nbsp\; More than a concert\, each production is a carefully crafted celebration\, and&nbsp\;<strong><em>Hello Goodbye</em>: 1969 from Abbey Road to Led Zeppelin\,&nbsp\;</strong>promises no less.</p>\n\n<p>In 1969 America said hello to amazing debuts from Led<em>&nbsp\;Zeppelin\,&nbsp\;</em>Santana and Crosby\, Stills &amp\; Nash\, and Neil Young released his solo LP. Creedence Clearwater Revival enjoyed three albums in the top 10\, and the Rolling Stones were on a roll.&nbsp\; Mid-August unleashed Woodstock\, which left its indelible mark on American music. Unbeknownst to most\, The Beatles were beginning to &ldquo\;say goodbye\,&rdquo\; but that wasn&rsquo\;t obvious when they released&nbsp\;<em>Abbey Road</em>&nbsp\;in September. Rock was still very exciting as the &lsquo\;60s ended\, and this concert celebrates the final year in that legendary musical decade.</p>\n\n<p>This show made possible by&nbsp\;<a href="http://gvca.info/" style="box-sizing: border-box\; margin: 0px\; padding: 0px\; border: 0px\; outline: 0px\; vertical-align: top\; background: 0px 0px transparent\; color: rgb(193\, 180\, 95)\; cursor: pointer\; transition-duration: 0.2s\; transition-timing-function: ease-out\;">GVCA</a></p>\n
LOCATION:The Poway Center for the Performing Arts 15498 Espola Rd. Poway\, CA 92064
UID:e.530.19869
SEQUENCE:3
DTSTAMP:20260419T234749Z
URL:https://business.poway.com/events/details/back-to-the-garden-in-hello-goodbye-1969-from-abbey-road-to-led-zeppelin-19869
END:VEVENT

END:VCALENDAR
