BEGIN:VCALENDAR
VERSION:2.0
PRODID:-//ChamberMaster//Event Calendar 2.0//EN
METHOD:PUBLISH
X-PUBLISHED-TTL:P3D
REFRESH-INTERVAL:P3D
CALSCALE:GREGORIAN
BEGIN:VEVENT
DTSTART:20160826T003000Z
DTEND:20160826T023000Z
X-MICROSOFT-CDO-ALLDAYEVENT:FALSE
SUMMARY:August Mixer
DESCRIPTION:Join us for an evening of networking\, delicious food\, and fun at Mt. Olive Lutheran Church!\n\n \n\nRamp up for Poway Days at this rodeo-themed event!
X-ALT-DESC;FMTTYPE=text/html:<div>Join us for an evening of networking\, delicious food\, and fun at Mt. Olive Lutheran Church!</div>\n\n<div>&nbsp\;</div>\n\n<div>Ramp up for Poway Days at this rodeo-themed event!</div>\n
LOCATION:14280 Poway Road Poway CA 92064
UID:e.530.11620
SEQUENCE:3
DTSTAMP:20260420T210830Z
URL:https://business.poway.com/events/details/august-mixer-08-25-2016-11620
END:VEVENT

END:VCALENDAR
