BEGIN:VCALENDAR
VERSION:2.0
PRODID:-//ChamberMaster//Event Calendar 2.0//EN
METHOD:PUBLISH
X-PUBLISHED-TTL:P3D
REFRESH-INTERVAL:P3D
CALSCALE:GREGORIAN
BEGIN:VEVENT
DTSTART:20220429T003000Z
DTEND:20220429T023000Z
X-MICROSOFT-CDO-ALLDAYEVENT:FALSE
SUMMARY:April Mixer @ Sportsplex
DESCRIPTION:Our April Mixer will take place Thursday\, April 28 at Sportsplex in Poway! Join us for a fun evening of networking\, drawing prizes\, Rollover Jackpot (sponsored by Farmers Insurance - Peterson Agency) and more. Please register in advance to avoid the walk-in fee.
X-ALT-DESC;FMTTYPE=text/html:Our April Mixer will take place Thursday\, April 28 at Sportsplex in Poway! Join us for a fun evening of networking\, drawing prizes\, Rollover Jackpot (sponsored by Farmers Insurance - Peterson Agency) and more. Please register in advance to avoid the walk-in fee.
LOCATION:Sportsplex 12349 McIvers Court Poway CA 92064
UID:e.530.20564
SEQUENCE:3
DTSTAMP:20260420T024414Z
URL:https://business.poway.com/events/details/april-mixer-sportsplex-20564
END:VEVENT

END:VCALENDAR
