BEGIN:VCALENDAR
VERSION:2.0
PRODID:-//ChamberMaster//Event Calendar 2.0//EN
METHOD:PUBLISH
X-PUBLISHED-TTL:P3D
REFRESH-INTERVAL:P3D
CALSCALE:GREGORIAN
BEGIN:VEVENT
DTSTART:20250425T003000Z
DTEND:20250425T023000Z
X-MICROSOFT-CDO-ALLDAYEVENT:FALSE
SUMMARY:April Mixer
DESCRIPTION:Join us for our April Mixer at the Poway Center for Performing Arts. This event is a fantastic opportunity to meet fellow chamber members\, local entrepreneurs\, and community leaders. Enjoy having your first glass of champagne or beer (while supplies last) courtesy of Poway OnStage (beverages for purchase beyond that)\, food courtesy of Hamburger Factory\, networking\, drawing prizes\, and a chance at the Rollover Jackpot\, sponsored by A/C Mechanical Sol.\n\n\n\nFree for Chamber members and first-time guests\; $25 for returning guests. Registration is required for this event. A $10 late fee will apply if registering within 2 days of the event\, and a $10 walk-in fee will also be enforced for those who do not register in advance.\n\n\n\nWould you like to donate a drawing prize? Please email us!\n\n\n\n*Chamber members who register and attend the mixer\, and whose membership is in good standing\, are eligible to win the Rollover Jackpot.
X-ALT-DESC;FMTTYPE=text/html:<span style="font-size:18px\;">Join us for our April Mixer at the <strong>Poway Center for Performing Arts</strong>. This event is a fantastic opportunity to meet fellow chamber members\, local entrepreneurs\, and community leaders. Enjoy having your first glass of champagne or beer (while supplies last) courtesy of <a href="https://business.poway.com/list/member/poway-onstage-poway-3121">Poway OnStage</a> (beverages for purchase beyond that)\,&nbsp\;food courtesy of <a href="https://business.poway.com/list/member/hamburger-factory-14024">Hamburger Factory</a>\, networking\, drawing prizes\, and a chance at the Rollover Jackpot\, sponsored by <a href="https://business.poway.com/list/member/a-c-mechanical-sol-inc-14073">A/C Mechanical Sol</a>.</span><br />\n<br />\n<span style="box-sizing: border-box\; font-family: Montserrat\, sans-serif\; font-size: 14px\;">Free for Chamber members and first-time guests\; $25 for returning guests.&nbsp\;</span><span style="box-sizing: border-box\; font-family: Montserrat\, sans-serif\; font-weight: bolder\; font-size: 14px\;">Registration is required for this event</span><span style="box-sizing: border-box\; font-family: Montserrat\, sans-serif\; font-size: 14px\;">.&nbsp\;</span><em style="box-sizing: border-box\; font-family: Montserrat\, sans-serif\; font-size: 14px\;">A $10 late fee will apply if registering within 2 days of the event\, and a $10 walk-in fee will also be enforced for those who do not register in advance.</em><br />\n<br />\n<span style="font-size:18px\;"><em><span style="font-size:16px\;">Would you like to donate a drawing prize? <a href="mailto:faire@poway.com?subject=Mixer%20Drawing%20Prize%20Donation">Please email us!</a><br />\n<br />\n*Chamber members who register and attend the mixer\, and whose membership is in good standing\, are eligible to win the Rollover Jackpot.</span></em></span>
LOCATION:Poway Center for the Performing Arts 15498 Espola Rd Poway CA 92064
UID:e.530.22387
SEQUENCE:3
DTSTAMP:20260420T101251Z
URL:https://business.poway.com/events/details/april-mixer-22387
END:VEVENT

END:VCALENDAR
