BEGIN:VCALENDAR
VERSION:2.0
PRODID:-//ChamberMaster//Event Calendar 2.0//EN
METHOD:PUBLISH
X-PUBLISHED-TTL:P3D
REFRESH-INTERVAL:P3D
CALSCALE:GREGORIAN
BEGIN:VEVENT
DTSTART:20210430T003000Z
DTEND:20210430T023000Z
X-MICROSOFT-CDO-ALLDAYEVENT:FALSE
SUMMARY:April Mixer
DESCRIPTION:Join us for another in-person mixer at Mainstream Bar & Grill! We are excited to be back in person now that we can gather safely in a ventilated area at Mainstream\; please wear a mask when not sitting down to eat.\n\n\n\nCome to network\, socialize\, win drawing prizes\, and more! Appetizers will be provided\, courtesy of our food sponsors ZTelco/Ringplan and Farmers Insurance - Peterson Agency.  There will be $400 up for grabs in our Rollover Jackpot\, will you be the lucky winner? *Members must be in good standing and present at the event to be eligible to win.\n\n\n\nDrawing prizes are back! Bring cash for tickets - available in quantities of 6 for $5.\n\n\n\n*Please note there is no virtual option for this event. We look forward to seeing you!*
X-ALT-DESC;FMTTYPE=text/html:Join us for another in-person mixer at Mainstream Bar &amp\; Grill! We are excited to be back in person now that we can gather safely in a ventilated area at Mainstream\; please wear a mask when not sitting down to eat.<br />\n<br />\nCome to network\, socialize\, win drawing prizes\, and more! Appetizers will be provided\, courtesy of our food sponsors ZTelco/Ringplan and Farmers Insurance - Peterson Agency.&nbsp\; There will be $400 up for grabs in our Rollover Jackpot\, will you be the lucky winner? *Members must be in good standing and present at the event to be eligible to win.<br />\n<br />\nDrawing prizes are back! Bring cash for tickets - available in quantities of 6 for $5.<br />\n<br />\n*Please note there is no virtual option for this event. We look forward to seeing you!*
LOCATION:Mainstream Bar & Grill 13385 Poway Road
UID:e.530.18703
SEQUENCE:3
DTSTAMP:20260420T023215Z
URL:https://business.poway.com/events/details/april-mixer-18703
END:VEVENT

END:VCALENDAR
