BEGIN:VCALENDAR
VERSION:2.0
PRODID:-//ChamberMaster//Event Calendar 2.0//EN
METHOD:PUBLISH
X-PUBLISHED-TTL:P3D
REFRESH-INTERVAL:P3D
CALSCALE:GREGORIAN
BEGIN:VEVENT
DTSTART:20201117T153000Z
DTEND:20201117T163000Z
X-MICROSOFT-CDO-ALLDAYEVENT:FALSE
SUMMARY:Ambassadors Meeting
DESCRIPTION:Serves as liaisons with Chamber members\, for the Mixers\, Ribbon Cuttings and special events. Committee Chair Cathy Peterson\, Peterson Farmers Insurance\, 619.417.7362.\n\n\n\n***Chamber Members Only***\n\n\n\nTopic: Poway Chamber of Commerce Ambassador Committee Meeting\n\nTime: Nov 17\, 2020 07:30 AM Pacific Time (US and Canada)\n\n        Every month on the Third Tue\, until Apr 20\, 2021\, 6 occurrence(s)\n\n        Nov 17\, 2020 07:30 AM\n\n        Dec 15\, 2020 07:30 AM\n\n        Jan 19\, 2021 07:30 AM\n\n        Feb 16\, 2021 07:30 AM\n\n        Mar 16\, 2021 07:30 AM\n\n        Apr 20\, 2021 07:30 AM\n\nPlease download and import the following iCalendar (.ics) files to your calendar system.\n\nMonthly: https://us02web.zoom.us/meeting/tZcpfuCgrDoqGdJPWBEewlssZQ6kcevVf2yy/ics?icsToken=98tyKuGrqjIjEtaUsBqBRpwqBor4Xfzzpn5fjad3rCjHJiVEbhDlDNMUObF6Bu7W\n\n\n\nJoin Zoom Meeting\n\nhttps://us02web.zoom.us/j/83499821036?pwd=TjJLN1dmc3k3dEtLUzJiRDM4TGp4Zz09\n\n\n\nMeeting ID: 834 9982 1036\n\nPasscode: 164359\n\nOne tap mobile\n\n+16699006833\,\,83499821036#\,\,\,\,\,\,0#\,\,164359# US (San Jose)\n\n+12532158782\,\,83499821036#\,\,\,\,\,\,0#\,\,164359# US (Tacoma)\n\n\n\nDial by your location\n\n        +1 669 900 6833 US (San Jose)\n\n        +1 253 215 8782 US (Tacoma)\n\n        +1 346 248 7799 US (Houston)\n\n        +1 312 626 6799 US (Chicago)\n\n        +1 929 205 6099 US (New York)\n\n        +1 301 715 8592 US (Washington D.C)\n\nMeeting ID: 834 9982 1036\n\nPasscode: 164359\n\nFind your local number: https://us02web.zoom.us/u/kcz1orXkS3
X-ALT-DESC;FMTTYPE=text/html:Serves as liaisons with Chamber members\, for the Mixers\, Ribbon Cuttings and special events. Committee Chair <span style="color: rgb(34\, 34\, 34)\; font-family: Arial\, Helvetica\, sans-serif\; font-size: small\;">Cathy Peterson\, Peterson Farmers Insurance\, 619.417.7362.</span><br />\n<br />\n***Chamber Members Only***<br />\n<br />\n<span style="color: rgb(34\, 34\, 34)\; font-family: Arial\, Helvetica\, sans-serif\; font-size: small\;">Topic: Poway Chamber of Commerce Ambassador Committee Meeting</span><br style="color: rgb(34\, 34\, 34)\; font-family: Arial\, Helvetica\, sans-serif\; font-size: small\;" />\n<span style="color: rgb(34\, 34\, 34)\; font-family: Arial\, Helvetica\, sans-serif\; font-size: small\;">Time: Nov 17\, 2020 07:30 AM Pacific Time (US and Canada)</span><br style="color: rgb(34\, 34\, 34)\; font-family: Arial\, Helvetica\, sans-serif\; font-size: small\;" />\n<span style="color: rgb(34\, 34\, 34)\; font-family: Arial\, Helvetica\, sans-serif\; font-size: small\;">&nbsp\; &nbsp\; &nbsp\; &nbsp\; Every month on the Third Tue\, until Apr 20\, 2021\, 6 occurrence(s)</span><br style="color: rgb(34\, 34\, 34)\; font-family: Arial\, Helvetica\, sans-serif\; font-size: small\;" />\n<span style="color: rgb(34\, 34\, 34)\; font-family: Arial\, Helvetica\, sans-serif\; font-size: small\;">&nbsp\; &nbsp\; &nbsp\; &nbsp\; Nov 17\, 2020 07:30 AM</span><br style="color: rgb(34\, 34\, 34)\; font-family: Arial\, Helvetica\, sans-serif\; font-size: small\;" />\n<span style="color: rgb(34\, 34\, 34)\; font-family: Arial\, Helvetica\, sans-serif\; font-size: small\;">&nbsp\; &nbsp\; &nbsp\; &nbsp\; Dec 15\, 2020 07:30 AM</span><br style="color: rgb(34\, 34\, 34)\; font-family: Arial\, Helvetica\, sans-serif\; font-size: small\;" />\n<span style="color: rgb(34\, 34\, 34)\; font-family: Arial\, Helvetica\, sans-serif\; font-size: small\;">&nbsp\; &nbsp\; &nbsp\; &nbsp\; Jan 19\, 2021 07:30 AM</span><br style="color: rgb(34\, 34\, 34)\; font-family: Arial\, Helvetica\, sans-serif\; font-size: small\;" />\n<span style="color: rgb(34\, 34\, 34)\; font-family: Arial\, Helvetica\, sans-serif\; font-size: small\;">&nbsp\; &nbsp\; &nbsp\; &nbsp\; Feb 16\, 2021 07:30 AM</span><br style="color: rgb(34\, 34\, 34)\; font-family: Arial\, Helvetica\, sans-serif\; font-size: small\;" />\n<span style="color: rgb(34\, 34\, 34)\; font-family: Arial\, Helvetica\, sans-serif\; font-size: small\;">&nbsp\; &nbsp\; &nbsp\; &nbsp\; Mar 16\, 2021 07:30 AM</span><br style="color: rgb(34\, 34\, 34)\; font-family: Arial\, Helvetica\, sans-serif\; font-size: small\;" />\n<span style="color: rgb(34\, 34\, 34)\; font-family: Arial\, Helvetica\, sans-serif\; font-size: small\;">&nbsp\; &nbsp\; &nbsp\; &nbsp\; Apr 20\, 2021 07:30 AM</span><br style="color: rgb(34\, 34\, 34)\; font-family: Arial\, Helvetica\, sans-serif\; font-size: small\;" />\n<span style="color: rgb(34\, 34\, 34)\; font-family: Arial\, Helvetica\, sans-serif\; font-size: small\;">Please download and import the following iCalendar (.ics) files to your calendar system.</span><br style="color: rgb(34\, 34\, 34)\; font-family: Arial\, Helvetica\, sans-serif\; font-size: small\;" />\n<span style="color: rgb(34\, 34\, 34)\; font-family: Arial\, Helvetica\, sans-serif\; font-size: small\;">Monthly:&nbsp\;</span><a data-saferedirecturl="https://www.google.com/url?q=https://us02web.zoom.us/meeting/tZcpfuCgrDoqGdJPWBEewlssZQ6kcevVf2yy/ics?icsToken%3D98tyKuGrqjIjEtaUsBqBRpwqBor4Xfzzpn5fjad3rCjHJiVEbhDlDNMUObF6Bu7W&amp\;source=gmail&amp\;ust=1605372118313000&amp\;usg=AFQjCNEly0Og4D5uMkBcloG02WUhLHeO5Q" href="https://us02web.zoom.us/meeting/tZcpfuCgrDoqGdJPWBEewlssZQ6kcevVf2yy/ics?icsToken=98tyKuGrqjIjEtaUsBqBRpwqBor4Xfzzpn5fjad3rCjHJiVEbhDlDNMUObF6Bu7W" style="color: rgb(17\, 85\, 204)\; font-family: Arial\, Helvetica\, sans-serif\; font-size: small\;" target="_blank">https://us02web.zoom.us/<wbr />meeting/<wbr />tZcpfuCgrDoqGdJPWBEewlssZQ6kce<wbr />vVf2yy/ics?icsToken=<wbr />98tyKuGrqjIjEtaUsBqBRpwqBor4Xf<wbr />zzpn5fjad3rCjHJiVEbhDlDNMUObF6<wbr />Bu7W</a><br style="color: rgb(34\, 34\, 34)\; font-family: Arial\, Helvetica\, sans-serif\; font-size: small\;" />\n<br style="color: rgb(34\, 34\, 34)\; font-family: Arial\, Helvetica\, sans-serif\; font-size: small\;" />\n<span style="color: rgb(34\, 34\, 34)\; font-family: Arial\, Helvetica\, sans-serif\; font-size: small\;">Join Zoom Meeting</span><br style="color: rgb(34\, 34\, 34)\; font-family: Arial\, Helvetica\, sans-serif\; font-size: small\;" />\n<a data-saferedirecturl="https://www.google.com/url?q=https://us02web.zoom.us/j/83499821036?pwd%3DTjJLN1dmc3k3dEtLUzJiRDM4TGp4Zz09&amp\;source=gmail&amp\;ust=1605372118313000&amp\;usg=AFQjCNEjTvY5JthuovLUEtzhvMcab4YN-Q" href="https://us02web.zoom.us/j/83499821036?pwd=TjJLN1dmc3k3dEtLUzJiRDM4TGp4Zz09" style="color: rgb(17\, 85\, 204)\; font-family: Arial\, Helvetica\, sans-serif\; font-size: small\;" target="_blank">https://us02web.zoom.us/j/<wbr />83499821036?pwd=<wbr />TjJLN1dmc3k3dEtLUzJiRDM4TGp4Zz<wbr />09</a><br style="color: rgb(34\, 34\, 34)\; font-family: Arial\, Helvetica\, sans-serif\; font-size: small\;" />\n<br style="color: rgb(34\, 34\, 34)\; font-family: Arial\, Helvetica\, sans-serif\; font-size: small\;" />\n<span style="color: rgb(34\, 34\, 34)\; font-family: Arial\, Helvetica\, sans-serif\; font-size: small\;">Meeting ID: 834 9982 1036</span><br style="color: rgb(34\, 34\, 34)\; font-family: Arial\, Helvetica\, sans-serif\; font-size: small\;" />\n<span style="color: rgb(34\, 34\, 34)\; font-family: Arial\, Helvetica\, sans-serif\; font-size: small\;">Passcode: 164359</span><br style="color: rgb(34\, 34\, 34)\; font-family: Arial\, Helvetica\, sans-serif\; font-size: small\;" />\n<span style="color: rgb(34\, 34\, 34)\; font-family: Arial\, Helvetica\, sans-serif\; font-size: small\;">One tap mobile</span><br style="color: rgb(34\, 34\, 34)\; font-family: Arial\, Helvetica\, sans-serif\; font-size: small\;" />\n<span style="color: rgb(34\, 34\, 34)\; font-family: Arial\, Helvetica\, sans-serif\; font-size: small\;">+16699006833\,\,83499821036#\,\,\,\,</span><wbr style="color: rgb(34\, 34\, 34)\; font-family: Arial\, Helvetica\, sans-serif\; font-size: small\;" /><span style="color: rgb(34\, 34\, 34)\; font-family: Arial\, Helvetica\, sans-serif\; font-size: small\;">\,\,0#\,\,164359# US (San Jose)</span><br style="color: rgb(34\, 34\, 34)\; font-family: Arial\, Helvetica\, sans-serif\; font-size: small\;" />\n<span style="color: rgb(34\, 34\, 34)\; font-family: Arial\, Helvetica\, sans-serif\; font-size: small\;">+12532158782\,\,83499821036#\,\,\,\,</span><wbr style="color: rgb(34\, 34\, 34)\; font-family: Arial\, Helvetica\, sans-serif\; font-size: small\;" /><span style="color: rgb(34\, 34\, 34)\; font-family: Arial\, Helvetica\, sans-serif\; font-size: small\;">\,\,0#\,\,164359# US (Tacoma)</span><br style="color: rgb(34\, 34\, 34)\; font-family: Arial\, Helvetica\, sans-serif\; font-size: small\;" />\n<br style="color: rgb(34\, 34\, 34)\; font-family: Arial\, Helvetica\, sans-serif\; font-size: small\;" />\n<span style="color: rgb(34\, 34\, 34)\; font-family: Arial\, Helvetica\, sans-serif\; font-size: small\;">Dial by your location</span><br style="color: rgb(34\, 34\, 34)\; font-family: Arial\, Helvetica\, sans-serif\; font-size: small\;" />\n<span style="color: rgb(34\, 34\, 34)\; font-family: Arial\, Helvetica\, sans-serif\; font-size: small\;">&nbsp\; &nbsp\; &nbsp\; &nbsp\; +1 669 900 6833 US (San Jose)</span><br style="color: rgb(34\, 34\, 34)\; font-family: Arial\, Helvetica\, sans-serif\; font-size: small\;" />\n<span style="color: rgb(34\, 34\, 34)\; font-family: Arial\, Helvetica\, sans-serif\; font-size: small\;">&nbsp\; &nbsp\; &nbsp\; &nbsp\; +1 253 215 8782 US (Tacoma)</span><br style="color: rgb(34\, 34\, 34)\; font-family: Arial\, Helvetica\, sans-serif\; font-size: small\;" />\n<span style="color: rgb(34\, 34\, 34)\; font-family: Arial\, Helvetica\, sans-serif\; font-size: small\;">&nbsp\; &nbsp\; &nbsp\; &nbsp\; +1 346 248 7799 US (Houston)</span><br style="color: rgb(34\, 34\, 34)\; font-family: Arial\, Helvetica\, sans-serif\; font-size: small\;" />\n<span style="color: rgb(34\, 34\, 34)\; font-family: Arial\, Helvetica\, sans-serif\; font-size: small\;">&nbsp\; &nbsp\; &nbsp\; &nbsp\; +1 312 626 6799 US (Chicago)</span><br style="color: rgb(34\, 34\, 34)\; font-family: Arial\, Helvetica\, sans-serif\; font-size: small\;" />\n<span style="color: rgb(34\, 34\, 34)\; font-family: Arial\, Helvetica\, sans-serif\; font-size: small\;">&nbsp\; &nbsp\; &nbsp\; &nbsp\; +1 929 205 6099 US (New York)</span><br style="color: rgb(34\, 34\, 34)\; font-family: Arial\, Helvetica\, sans-serif\; font-size: small\;" />\n<span style="color: rgb(34\, 34\, 34)\; font-family: Arial\, Helvetica\, sans-serif\; font-size: small\;">&nbsp\; &nbsp\; &nbsp\; &nbsp\; +1 301 715 8592 US (Washington D.C)</span><br style="color: rgb(34\, 34\, 34)\; font-family: Arial\, Helvetica\, sans-serif\; font-size: small\;" />\n<span style="color: rgb(34\, 34\, 34)\; font-family: Arial\, Helvetica\, sans-serif\; font-size: small\;">Meeting ID: 834 9982 1036</span><br style="color: rgb(34\, 34\, 34)\; font-family: Arial\, Helvetica\, sans-serif\; font-size: small\;" />\n<span style="color: rgb(34\, 34\, 34)\; font-family: Arial\, Helvetica\, sans-serif\; font-size: small\;">Passcode: 164359</span><br style="color: rgb(34\, 34\, 34)\; font-family: Arial\, Helvetica\, sans-serif\; font-size: small\;" />\n<span style="color: rgb(34\, 34\, 34)\; font-family: Arial\, Helvetica\, sans-serif\; font-size: small\;">Find your local number:&nbsp\;</span><a data-saferedirecturl="https://www.google.com/url?q=https://us02web.zoom.us/u/kcz1orXkS3&amp\;source=gmail&amp\;ust=1605372118313000&amp\;usg=AFQjCNEVT30S_YYHKyttLm6jUPbVGuQM_A" href="https://us02web.zoom.us/u/kcz1orXkS3" style="color: rgb(17\, 85\, 204)\; font-family: Arial\, Helvetica\, sans-serif\; font-size: small\;" target="_blank">https://us02web.zoom.us/u/<wbr />kcz1orXkS3</a>
LOCATION:https://us02web.zoom.us/j/83499821036?pwd=TjJLN1dmc3k3dEtLUzJiRDM4TGp4Zz09
UID:e.530.2845
SEQUENCE:3
DTSTAMP:20260420T111042Z
URL:https://business.poway.com/events/details/ambassadors-meeting-11-17-2020-2845
END:VEVENT

END:VCALENDAR
