BEGIN:VCALENDAR
VERSION:2.0
PRODID:-//ChamberMaster//Event Calendar 2.0//EN
METHOD:PUBLISH
X-PUBLISHED-TTL:P3D
REFRESH-INTERVAL:P3D
CALSCALE:GREGORIAN
BEGIN:VEVENT
DTSTART:20201020T143000Z
DTEND:20201020T153000Z
X-MICROSOFT-CDO-ALLDAYEVENT:FALSE
SUMMARY:Ambassadors Meeting
DESCRIPTION:Ambassadors serve as liaisons with Chamber members\, and represent the membership at Mixers\, Ribbon Cuttings and special events. \n\n\n\n***Chamber Members Only***
X-ALT-DESC;FMTTYPE=text/html:Ambassadors serve as liaisons with Chamber members\, and represent the membership at Mixers\, Ribbon Cuttings and special events.&nbsp\;<br />\n<br />\n***Chamber Members Only***
LOCATION:Join Zoom Meeting https://us02web.zoom.us/j/86152461421?pwd=WnJjSnhva0tveXJVcGFSa3FTRGtZUT09 Meeting ID: 861 5246 1421 Passcode: 874329 One tap mobile +16699006833\,\,86152461421#\,\,\,\,\,\,0#\,\,874329# US (San Jose) +13462487799\,\,86152461421#\,\,\,\,\,\,0#\,\,874329# US (Houston) Dial by your location +1 669 900 6833 US (San Jose) +1 346 248 7799 US (Houston) +1 253 215 8782 US (Tacoma) +1 929 205 6099 US (New York) +1 301 715 8592 US (Germantown) +1 312 626 6799 US (Chicago) Meeting ID: 861 5246 1421 Passcode: 874329 Find your local number: https://us02web.zoom.us/u/kBi2s5BEY
UID:e.530.2844
SEQUENCE:3
DTSTAMP:20260420T124549Z
URL:https://business.poway.com/events/details/ambassadors-meeting-10-20-2020-2844
END:VEVENT

END:VCALENDAR
