BEGIN:VCALENDAR
VERSION:2.0
PRODID:-//ChamberMaster//Event Calendar 2.0//EN
METHOD:PUBLISH
X-PUBLISHED-TTL:P3D
REFRESH-INTERVAL:P3D
CALSCALE:GREGORIAN
BEGIN:VEVENT
DTSTART:20200519T143000Z
DTEND:20200519T153000Z
X-MICROSOFT-CDO-ALLDAYEVENT:FALSE
SUMMARY:Ambassadors Meeting
DESCRIPTION:Serves as liaisons with Chamber members\, for the Mixers\, Ribbon Cuttings and special events. Committee Chair Paul Eisan\, Seismic Signs\, (858) 243-1277.\n\n\n\n***Chamber Members Only***
X-ALT-DESC;FMTTYPE=text/html:Serves as liaisons with Chamber members\, for the Mixers\, Ribbon Cuttings and special events. Committee Chair Paul Eisan\, Seismic Signs\,&nbsp\;(858) 243-1277.<br />\n<br />\n***Chamber Members Only***
LOCATION:This meeting will be held virtually - Details TBD
UID:e.530.2839
SEQUENCE:3
DTSTAMP:20260420T200154Z
URL:https://business.poway.com/events/details/ambassadors-meeting-05-19-2020-2839
END:VEVENT

END:VCALENDAR
