BEGIN:VCALENDAR
VERSION:2.0
PRODID:-//ChamberMaster//Event Calendar 2.0//EN
METHOD:PUBLISH
X-PUBLISHED-TTL:P3D
REFRESH-INTERVAL:P3D
CALSCALE:GREGORIAN
BEGIN:VEVENT
DTSTART:20170418T143000Z
DTEND:20170418T153000Z
X-MICROSOFT-CDO-ALLDAYEVENT:FALSE
SUMMARY:Ambassadors Meeting
DESCRIPTION:Serves as liaisons with Chamber members\, for the Mixers\, Ribbon Cuttings and special events. \n\n***Chamber Members Only***
X-ALT-DESC;FMTTYPE=text/html:Serves as liaisons with Chamber members\, for the Mixers\, Ribbon Cuttings and special events.&nbsp\;<br />\n***Chamber Members Only***
LOCATION:Virtual Meeting. Please email chamber@poway.com if you would like to attend.
UID:e.530.2802
SEQUENCE:3
DTSTAMP:20260420T025350Z
URL:https://business.poway.com/events/details/ambassadors-meeting-04-18-2017-2802
END:VEVENT

END:VCALENDAR
