BEGIN:VCALENDAR
VERSION:2.0
PRODID:-//ChamberMaster//Event Calendar 2.0//EN
METHOD:PUBLISH
X-PUBLISHED-TTL:P3D
REFRESH-INTERVAL:P3D
CALSCALE:GREGORIAN
BEGIN:VEVENT
DTSTART:20200912T230000Z
DTEND:20200913T010000Z
X-MICROSOFT-CDO-ALLDAYEVENT:FALSE
SUMMARY:AimLoan.com San Diego Blues Festival (Virtual)
DESCRIPTION:The Jacobs & Cushman San Diego Food Bank will host the tenth annual AimLoan.com San Diego Blues Festival virtually due to the COVID-19 pandemic. The virtual concert will be live streamed online and broadcast on KUSI TV and iHeart Radio stations. All proceeds will benefit the Jacobs & Cushman San Diego Food Bank and its North County Food Bank chapter.\n\nhttps://www.sdbluesfest.com/
X-ALT-DESC;FMTTYPE=text/html:<span style="color: rgb(34\, 34\, 34)\; font-family: Arial\, Helvetica\, sans-serif\; font-size: small\;">The Jacobs &amp\; Cushman San Diego Food Bank will host the tenth annual AimLoan.com San Diego Blues Festival virtually due to the COVID-19 pandemic. The virtual concert will be live streamed online and broadcast on KUSI TV and iHeart Radio stations. All proceeds will benefit the Jacobs &amp\; Cushman San Diego Food Bank and its North County Food Bank chapter.</span><br />\n<a href="https://www.sdbluesfest.com/">https://www.sdbluesfest.com/</a>
LOCATION:Virtual event. Visit https://www.sdbluesfest.com/ for details
UID:e.530.17097
SEQUENCE:3
DTSTAMP:20260420T152017Z
URL:https://business.poway.com/events/details/aimloan-com-san-diego-blues-festival-virtual-17097
END:VEVENT

END:VCALENDAR
