BEGIN:VCALENDAR
VERSION:2.0
PRODID:-//ChamberMaster//Event Calendar 2.0//EN
METHOD:PUBLISH
X-PUBLISHED-TTL:P3D
REFRESH-INTERVAL:P3D
CALSCALE:GREGORIAN
BEGIN:VEVENT
DTSTART:20220305T040000Z
DTEND:20220305T060000Z
X-MICROSOFT-CDO-ALLDAYEVENT:FALSE
SUMMARY:A Tribute to Aretha Franklin: The Queen of Soul
DESCRIPTION:Aretha Franklin is recognized as the most successful female recording artist in history\, with 112 charted singles on Billboard\, 18 Grammy Awards\, and over 75 million records sold. Her  legendary career rightfully earned her the title\, "The Queen of Soul." Through A Tribute to Aretha Franklin: The Queen of Soul\, Damien Sneed\, Franklin's personally mentored musician\, vocalist and composer\, pays homage to the monarch herself. Among the show's cherished hits are "Respect\," "Knew You Were Waiting\," "Bridge Over Troubled Water\," "Precious Memories\," "Think\," "Until You Come Back To Me\," "Daydreaming\," "Freeway\," "Natural Woman\," and others.\n\nJoining the tour is four-time GRAMMY  Award-winner and multiple Stellar and GMA Dove Award winner Karen Clark Sheard. A gospel music legend and part of a musical dynasty\, Clark Sheard is renowned throughout the music industry for her one-of-a-kind multi-octave vocal range and ability. Backed by an accomplished cast of jazz\, gospel\, and soul musicians and vocalists\, Damien Sneed's multi-media tribute to Aretha Franklin is a tender and spiritual reflection upon the life of an iconic industry titan.
X-ALT-DESC;FMTTYPE=text/html:<p>Aretha Franklin is recognized as the most successful female recording artist in history\, with 112 charted singles on Billboard\, 18 Grammy Awards\, and over 75 million records sold. Her&nbsp\; legendary career rightfully earned her the title\, &ldquo\;The Queen of Soul.&rdquo\; Through&nbsp\;<strong>A Tribute to Aretha Franklin: The Queen of Soul\,&nbsp\;</strong>Damien Sneed\, Franklin&rsquo\;s personally mentored musician\, vocalist and composer\, pays homage to the monarch herself. Among the show&rsquo\;s cherished hits are &ldquo\;Respect\,&rdquo\; &ldquo\;Knew You Were Waiting\,&rdquo\; &ldquo\;Bridge Over Troubled Water\,&rdquo\; &ldquo\;Precious Memories\,&rdquo\; &ldquo\;Think\,&rdquo\; &ldquo\;Until You Come Back To Me\,&rdquo\; &ldquo\;Daydreaming\,&rdquo\; &ldquo\;Freeway\,&rdquo\; &ldquo\;Natural Woman\,&rdquo\; and others.</p>\n\n<p>Joining the tour is four-time GRAMMY&reg\; Award-winner and multiple Stellar and GMA Dove Award winner Karen Clark Sheard. A gospel music legend and part of a musical dynasty\, Clark Sheard is renowned throughout the music industry for her one-of-a-kind multi-octave vocal range and ability. Backed by an accomplished cast of jazz\, gospel\, and soul musicians and vocalists\, Damien Sneed&rsquo\;s multi-media tribute to Aretha Franklin is a tender and spiritual reflection upon the life of an iconic industry titan.</p>\n
LOCATION:The Poway Center for the Performing Arts 15948 Espola Rd. Poway\, CA 92064
UID:e.530.19870
SEQUENCE:3
DTSTAMP:20260420T012656Z
URL:https://business.poway.com/events/details/a-tribute-to-aretha-franklin-the-queen-of-soul-19870
END:VEVENT

END:VCALENDAR
