BEGIN:VCALENDAR
VERSION:2.0
PRODID:-//ChamberMaster//Event Calendar 2.0//EN
METHOD:PUBLISH
X-PUBLISHED-TTL:P3D
REFRESH-INTERVAL:P3D
CALSCALE:GREGORIAN
BEGIN:VEVENT
DTSTART:20220419T190000Z
DTEND:20220419T200000Z
X-MICROSOFT-CDO-ALLDAYEVENT:FALSE
SUMMARY:A Holistic Approach to Stress Management: Panel Webinar
DESCRIPTION:The Poway Chamber's Health & Wellness Committee presents "A Holistic Approach to Stress Management".\n\n\n\nAccess the recorded presentation here: https://youtu.be/w-1r2Jwzrmc\n\n\n\nThis webinar includes several of the Chamber's experts in the area of health and wellness\, and  discusses natural ways to combat stress with eating healthy\, exercising\, and relaxation techniques.\n\n\n\nBe sure to visit powayhealth.com for more tips and resources\, and follow @powayhealthy on Instagram\, #PowayHealthy.
X-ALT-DESC;FMTTYPE=text/html:<span style="font-family: arial\; font-size: 14px\;">The Poway Chamber&#39\;s Health &amp\; Wellness Committee presents &quot\;A Holistic Approach to Stress Management&quot\;.<br />\n<br />\nAccess the recorded presentation here:&nbsp\;<a href="https://youtu.be/w-1r2Jwzrmc">https://youtu.be/w-1r2Jwzrmc</a><br />\n<br />\nThis webinar includes several of the Chamber&#39\;s experts in the area of health and wellness\, and&nbsp\; discusses natural ways to combat stress with eating healthy\, exercising\, and relaxation techniques.<br />\n<br />\nBe sure to visit </span><a href="https://www.powayhealthy.com/" style="font-family: arial\; font-size: 14px\;">powayhealth.com</a><span style="font-family: arial\; font-size: 14px\;">&nbsp\;for more tips and resources\, and follow @powayhealthy on Instagram\, #PowayHealthy.</span>
LOCATION:Recording of the presentation: https://youtu.be/w-1r2Jwzrmc
UID:e.530.19312
SEQUENCE:3
DTSTAMP:20260420T023538Z
URL:https://business.poway.com/events/details/a-holistic-approach-to-stress-management-panel-webinar-19312
END:VEVENT

END:VCALENDAR
