BEGIN:VCALENDAR
VERSION:2.0
PRODID:-//ChamberMaster//Event Calendar 2.0//EN
METHOD:PUBLISH
X-PUBLISHED-TTL:P3D
REFRESH-INTERVAL:P3D
CALSCALE:GREGORIAN
BEGIN:VEVENT
DTSTART;VALUE=DATE:20200926
DTEND;VALUE=DATE:20200928
TRANSP:TRANSPARENT
X-MICROSOFT-CDO-ALLDAYEVENT:TRUE
SUMMARY:2020 September Back 2 Skool Collectors Auction
DESCRIPTION:Amazing no reserve Fine Art\, Tools\, Stamps\, Antiques\, Collectibles. To get upcoming auctions\, text ncauctions to 77222. Email or text with questions 619-787-4906 Casey@northcountyauctions.com\n\n \n\nhttps://northcountyauctions.proxibid.com/NorthCountyAuctions-Com/2020-September-Back-2-Skool-Collectors-Auction/event-catalog/184650\n\n \n\nEnds Sunday 6:15pm
X-ALT-DESC;FMTTYPE=text/html:<div style="color: rgb(0\, 0\, 0)\; font-family: Verdana\; font-size: 13.3333px\;">Amazing no reserve Fine Art\, Tools\, Stamps\, Antiques\, Collectibles. To get upcoming auctions\, text ncauctions to 77222. Email or text with questions 619-787-4906&nbsp\;<a href="mailto:Casey@northcountyauctions.com" style="color: rgb(17\, 85\, 204)\;" target="_blank">Casey@northcountyauctions.com</a></div>\n\n<div style="color: rgb(0\, 0\, 0)\; font-family: Verdana\; font-size: 13.3333px\;">&nbsp\;</div>\n\n<div style="color: rgb(0\, 0\, 0)\; font-family: Verdana\; font-size: 13.3333px\;"><a data-saferedirecturl="https://www.google.com/url?q=https://northcountyauctions.proxibid.com/NorthCountyAuctions-Com/2020-September-Back-2-Skool-Collectors-Auction/event-catalog/184650&amp\;source=gmail&amp\;ust=1601051121943000&amp\;usg=AFQjCNGV8a6wiBLoYv_RdjfbN2s2XN4rpw" href="https://northcountyauctions.proxibid.com/NorthCountyAuctions-Com/2020-September-Back-2-Skool-Collectors-Auction/event-catalog/184650" style="color: rgb(17\, 85\, 204)\;" target="_blank">https://northcountyauctions.<wbr />proxibid.com/<wbr />NorthCountyAuctions-Com/2020-<wbr />September-Back-2-Skool-<wbr />Collectors-Auction/event-<wbr />catalog/184650</a></div>\n\n<div style="color: rgb(0\, 0\, 0)\; font-family: Verdana\; font-size: 13.3333px\;">&nbsp\;</div>\n\n<div style="color: rgb(0\, 0\, 0)\; font-family: Verdana\; font-size: 13.3333px\;">Ends Sunday 6:15pm</div>\n
LOCATION:
UID:e.530.17398
SEQUENCE:3
DTSTAMP:20260420T142339Z
URL:https://business.poway.com/events/details/2020-september-back-2-skool-collectors-auction-17398
END:VEVENT

END:VCALENDAR
