BEGIN:VCALENDAR
VERSION:2.0
PRODID:-//ChamberMaster//Event Calendar 2.0//EN
METHOD:PUBLISH
X-PUBLISHED-TTL:P3D
REFRESH-INTERVAL:P3D
CALSCALE:GREGORIAN
BEGIN:VEVENT
DTSTART;VALUE=DATE:20201031
DTEND;VALUE=DATE:20201102
TRANSP:TRANSPARENT
X-MICROSOFT-CDO-ALLDAYEVENT:TRUE
SUMMARY:2020 October Machine Shop Auction
DESCRIPTION:Drills\, Saws\, Magnets\, Microscopes\, Tooling\, Grinders\, etc. Forklift on site. To get upcoming auctions\, text ncauctions to 77222. Email or text with questions (619) 787-4906 casey@northcountyauctions.com
X-ALT-DESC;FMTTYPE=text/html:<div style="color: rgb(0\, 0\, 0)\; font-family: Verdana\; font-size: 13.3333px\;">Drills\, Saws\, Magnets\, Microscopes\, Tooling\, Grinders\, etc. Forklift on site. To get upcoming auctions\, text ncauctions to 77222. Email or text with questions (619) 787-4906&nbsp\;<a href="mailto:casey@northcountyauctions.com" style="color: rgb(17\, 85\, 204)\;" target="_blank">casey@northcountyauctions.com</a></div>\n
LOCATION:
UID:e.530.17586
SEQUENCE:3
DTSTAMP:20260420T110845Z
URL:https://business.poway.com/events/details/2020-october-machine-shop-auction-17586
END:VEVENT

END:VCALENDAR
