BEGIN:VCALENDAR
VERSION:2.0
PRODID:-//ChamberMaster//Event Calendar 2.0//EN
METHOD:PUBLISH
X-PUBLISHED-TTL:P3D
REFRESH-INTERVAL:P3D
CALSCALE:GREGORIAN
BEGIN:VEVENT
DTSTART:20200306T150000Z
DTEND:20200307T000000Z
X-MICROSOFT-CDO-ALLDAYEVENT:FALSE
SUMMARY:2020 Mickey Cafagna Golf Tournament
DESCRIPTION:The Mickey Cafagna Memorial Golf Classic was established to honor Mickey Cafagna\, former Mayor of Poway. In keeping with Mickey's charitable spirit\, a portion of this year's profits will be donated to the Poway Boys & Girls Club\, an organization working to inspire and enable youth to achieve academic success\, build good character and responsible citizenship\, and make healthy lifestyle choices.
X-ALT-DESC;FMTTYPE=text/html:The Mickey Cafagna Memorial Golf Classic was established to honor Mickey Cafagna\, former Mayor of Poway. In keeping with Mickey&rsquo\;s charitable spirit\, a portion of this year&rsquo\;s profits will be donated to the Poway Boys &amp\; Girls Club\, an organization working to inspire and enable youth to achieve academic success\, build good character and responsible citizenship\, and make healthy lifestyle choices.<br />\n&nbsp\;
LOCATION:Rancho Bernardo Inn 17550 Bernardo Oaks Drive | San Diego\, CA 92128
UID:e.530.16001
SEQUENCE:3
DTSTAMP:20260420T224436Z
URL:https://business.poway.com/events/details/2020-mickey-cafagna-golf-tournament-16001
END:VEVENT

END:VCALENDAR
